BEGIN:VCALENDAR
VERSION:2.0
PRODID:-//TRE® POLSKA - ECPv6.15.20//NONSGML v1.0//EN
CALSCALE:GREGORIAN
METHOD:PUBLISH
X-WR-CALNAME:TRE® POLSKA
X-ORIGINAL-URL:https://tre-polska.pl
X-WR-CALDESC:Wydarzenia dla TRE® POLSKA
REFRESH-INTERVAL;VALUE=DURATION:PT1H
X-Robots-Tag:noindex
X-PUBLISHED-TTL:PT1H
BEGIN:VTIMEZONE
TZID:Europe/Warsaw
BEGIN:DAYLIGHT
TZOFFSETFROM:+0100
TZOFFSETTO:+0200
TZNAME:CEST
DTSTART:20250330T010000
END:DAYLIGHT
BEGIN:STANDARD
TZOFFSETFROM:+0200
TZOFFSETTO:+0100
TZNAME:CET
DTSTART:20251026T010000
END:STANDARD
BEGIN:DAYLIGHT
TZOFFSETFROM:+0100
TZOFFSETTO:+0200
TZNAME:CEST
DTSTART:20260329T010000
END:DAYLIGHT
BEGIN:STANDARD
TZOFFSETFROM:+0200
TZOFFSETTO:+0100
TZNAME:CET
DTSTART:20261025T010000
END:STANDARD
BEGIN:DAYLIGHT
TZOFFSETFROM:+0100
TZOFFSETTO:+0200
TZNAME:CEST
DTSTART:20270328T010000
END:DAYLIGHT
BEGIN:STANDARD
TZOFFSETFROM:+0200
TZOFFSETTO:+0100
TZNAME:CET
DTSTART:20271031T010000
END:STANDARD
END:VTIMEZONE
BEGIN:VEVENT
DTSTART;TZID=Europe/Warsaw:20260512T183000
DTEND;TZID=Europe/Warsaw:20260512T194500
DTSTAMP:20260422T133559
CREATED:20260420T163841Z
LAST-MODIFIED:20260420T163844Z
UID:10000400-1778610600-1778615100@tre-polska.pl
SUMMARY:Cykl 5 sesji TRE®
DESCRIPTION:
URL:https://tre-polska.pl/event/cykl-5-sesji-tre/2026-05-12/
CATEGORIES:SESJE GRUPOWE
ATTACH;FMTTYPE=image/png:https://tre-polska.pl/wp-content/uploads/2026/04/CYKL-5-SESJI-TRE®-5.png
END:VEVENT
BEGIN:VEVENT
DTSTART;TZID=Europe/Warsaw:20260519T183000
DTEND;TZID=Europe/Warsaw:20260519T194500
DTSTAMP:20260422T133559
CREATED:20260420T163841Z
LAST-MODIFIED:20260420T163844Z
UID:10000401-1779215400-1779219900@tre-polska.pl
SUMMARY:Cykl 5 sesji TRE®
DESCRIPTION:
URL:https://tre-polska.pl/event/cykl-5-sesji-tre/2026-05-19/
CATEGORIES:SESJE GRUPOWE
ATTACH;FMTTYPE=image/png:https://tre-polska.pl/wp-content/uploads/2026/04/CYKL-5-SESJI-TRE®-5.png
END:VEVENT
BEGIN:VEVENT
DTSTART;TZID=Europe/Warsaw:20260526T183000
DTEND;TZID=Europe/Warsaw:20260526T194500
DTSTAMP:20260422T133559
CREATED:20260420T163841Z
LAST-MODIFIED:20260420T163844Z
UID:10000402-1779820200-1779824700@tre-polska.pl
SUMMARY:Cykl 5 sesji TRE®
DESCRIPTION:
URL:https://tre-polska.pl/event/cykl-5-sesji-tre/2026-05-26/
CATEGORIES:SESJE GRUPOWE
ATTACH;FMTTYPE=image/png:https://tre-polska.pl/wp-content/uploads/2026/04/CYKL-5-SESJI-TRE®-5.png
END:VEVENT
BEGIN:VEVENT
DTSTART;TZID=Europe/Warsaw:20260602T183000
DTEND;TZID=Europe/Warsaw:20260602T194500
DTSTAMP:20260422T133559
CREATED:20260420T163841Z
LAST-MODIFIED:20260420T163844Z
UID:10000403-1780425000-1780429500@tre-polska.pl
SUMMARY:Cykl 5 sesji TRE®
DESCRIPTION:
URL:https://tre-polska.pl/event/cykl-5-sesji-tre/2026-06-02/
CATEGORIES:SESJE GRUPOWE
ATTACH;FMTTYPE=image/png:https://tre-polska.pl/wp-content/uploads/2026/04/CYKL-5-SESJI-TRE®-5.png
END:VEVENT
BEGIN:VEVENT
DTSTART;TZID=Europe/Warsaw:20260609T183000
DTEND;TZID=Europe/Warsaw:20260609T194500
DTSTAMP:20260422T133559
CREATED:20260420T163841Z
LAST-MODIFIED:20260420T163844Z
UID:10000404-1781029800-1781034300@tre-polska.pl
SUMMARY:Cykl 5 sesji TRE®
DESCRIPTION:
URL:https://tre-polska.pl/event/cykl-5-sesji-tre/2026-06-09/
CATEGORIES:SESJE GRUPOWE
ATTACH;FMTTYPE=image/png:https://tre-polska.pl/wp-content/uploads/2026/04/CYKL-5-SESJI-TRE®-5.png
END:VEVENT
BEGIN:VEVENT
DTSTART;TZID=Europe/Warsaw:20260616T183000
DTEND;TZID=Europe/Warsaw:20260616T194500
DTSTAMP:20260422T133559
CREATED:20260420T163841Z
LAST-MODIFIED:20260420T163844Z
UID:10000405-1781634600-1781639100@tre-polska.pl
SUMMARY:Cykl 5 sesji TRE®
DESCRIPTION:
URL:https://tre-polska.pl/event/cykl-5-sesji-tre/2026-06-16/
CATEGORIES:SESJE GRUPOWE
ATTACH;FMTTYPE=image/png:https://tre-polska.pl/wp-content/uploads/2026/04/CYKL-5-SESJI-TRE®-5.png
END:VEVENT
BEGIN:VEVENT
DTSTART;TZID=Europe/Warsaw:20260623T183000
DTEND;TZID=Europe/Warsaw:20260623T194500
DTSTAMP:20260422T133559
CREATED:20260420T163841Z
LAST-MODIFIED:20260420T163844Z
UID:10000406-1782239400-1782243900@tre-polska.pl
SUMMARY:Cykl 5 sesji TRE®
DESCRIPTION:
URL:https://tre-polska.pl/event/cykl-5-sesji-tre/2026-06-23/
CATEGORIES:SESJE GRUPOWE
ATTACH;FMTTYPE=image/png:https://tre-polska.pl/wp-content/uploads/2026/04/CYKL-5-SESJI-TRE®-5.png
END:VEVENT
BEGIN:VEVENT
DTSTART;TZID=Europe/Warsaw:20260630T183000
DTEND;TZID=Europe/Warsaw:20260630T194500
DTSTAMP:20260422T133559
CREATED:20260420T163841Z
LAST-MODIFIED:20260420T163844Z
UID:10000407-1782844200-1782848700@tre-polska.pl
SUMMARY:Cykl 5 sesji TRE®
DESCRIPTION:
URL:https://tre-polska.pl/event/cykl-5-sesji-tre/2026-06-30/
CATEGORIES:SESJE GRUPOWE
ATTACH;FMTTYPE=image/png:https://tre-polska.pl/wp-content/uploads/2026/04/CYKL-5-SESJI-TRE®-5.png
END:VEVENT
BEGIN:VEVENT
DTSTART;TZID=Europe/Warsaw:20260707T183000
DTEND;TZID=Europe/Warsaw:20260707T194500
DTSTAMP:20260422T133559
CREATED:20260420T163841Z
LAST-MODIFIED:20260420T163844Z
UID:10000408-1783449000-1783453500@tre-polska.pl
SUMMARY:Cykl 5 sesji TRE®
DESCRIPTION:
URL:https://tre-polska.pl/event/cykl-5-sesji-tre/2026-07-07/
CATEGORIES:SESJE GRUPOWE
ATTACH;FMTTYPE=image/png:https://tre-polska.pl/wp-content/uploads/2026/04/CYKL-5-SESJI-TRE®-5.png
END:VEVENT
BEGIN:VEVENT
DTSTART;TZID=Europe/Warsaw:20260714T183000
DTEND;TZID=Europe/Warsaw:20260714T194500
DTSTAMP:20260422T133559
CREATED:20260420T163841Z
LAST-MODIFIED:20260420T163844Z
UID:10000409-1784053800-1784058300@tre-polska.pl
SUMMARY:Cykl 5 sesji TRE®
DESCRIPTION:
URL:https://tre-polska.pl/event/cykl-5-sesji-tre/2026-07-14/
CATEGORIES:SESJE GRUPOWE
ATTACH;FMTTYPE=image/png:https://tre-polska.pl/wp-content/uploads/2026/04/CYKL-5-SESJI-TRE®-5.png
END:VEVENT
BEGIN:VEVENT
DTSTART;TZID=Europe/Warsaw:20260721T183000
DTEND;TZID=Europe/Warsaw:20260721T194500
DTSTAMP:20260422T133600
CREATED:20260420T163841Z
LAST-MODIFIED:20260420T163844Z
UID:10000410-1784658600-1784663100@tre-polska.pl
SUMMARY:Cykl 5 sesji TRE®
DESCRIPTION:
URL:https://tre-polska.pl/event/cykl-5-sesji-tre/2026-07-21/
CATEGORIES:SESJE GRUPOWE
ATTACH;FMTTYPE=image/png:https://tre-polska.pl/wp-content/uploads/2026/04/CYKL-5-SESJI-TRE®-5.png
END:VEVENT
BEGIN:VEVENT
DTSTART;TZID=Europe/Warsaw:20260728T183000
DTEND;TZID=Europe/Warsaw:20260728T194500
DTSTAMP:20260422T133600
CREATED:20260420T163841Z
LAST-MODIFIED:20260420T163844Z
UID:10000411-1785263400-1785267900@tre-polska.pl
SUMMARY:Cykl 5 sesji TRE®
DESCRIPTION:
URL:https://tre-polska.pl/event/cykl-5-sesji-tre/2026-07-28/
CATEGORIES:SESJE GRUPOWE
ATTACH;FMTTYPE=image/png:https://tre-polska.pl/wp-content/uploads/2026/04/CYKL-5-SESJI-TRE®-5.png
END:VEVENT
BEGIN:VEVENT
DTSTART;TZID=Europe/Warsaw:20260804T183000
DTEND;TZID=Europe/Warsaw:20260804T194500
DTSTAMP:20260422T133600
CREATED:20260420T163841Z
LAST-MODIFIED:20260420T163844Z
UID:10000412-1785868200-1785872700@tre-polska.pl
SUMMARY:Cykl 5 sesji TRE®
DESCRIPTION:
URL:https://tre-polska.pl/event/cykl-5-sesji-tre/2026-08-04/
CATEGORIES:SESJE GRUPOWE
ATTACH;FMTTYPE=image/png:https://tre-polska.pl/wp-content/uploads/2026/04/CYKL-5-SESJI-TRE®-5.png
END:VEVENT
BEGIN:VEVENT
DTSTART;TZID=Europe/Warsaw:20260811T183000
DTEND;TZID=Europe/Warsaw:20260811T194500
DTSTAMP:20260422T133600
CREATED:20260420T163841Z
LAST-MODIFIED:20260420T163844Z
UID:10000413-1786473000-1786477500@tre-polska.pl
SUMMARY:Cykl 5 sesji TRE®
DESCRIPTION:
URL:https://tre-polska.pl/event/cykl-5-sesji-tre/2026-08-11/
CATEGORIES:SESJE GRUPOWE
ATTACH;FMTTYPE=image/png:https://tre-polska.pl/wp-content/uploads/2026/04/CYKL-5-SESJI-TRE®-5.png
END:VEVENT
BEGIN:VEVENT
DTSTART;TZID=Europe/Warsaw:20260818T183000
DTEND;TZID=Europe/Warsaw:20260818T194500
DTSTAMP:20260422T133600
CREATED:20260420T163841Z
LAST-MODIFIED:20260420T163844Z
UID:10000414-1787077800-1787082300@tre-polska.pl
SUMMARY:Cykl 5 sesji TRE®
DESCRIPTION:
URL:https://tre-polska.pl/event/cykl-5-sesji-tre/2026-08-18/
CATEGORIES:SESJE GRUPOWE
ATTACH;FMTTYPE=image/png:https://tre-polska.pl/wp-content/uploads/2026/04/CYKL-5-SESJI-TRE®-5.png
END:VEVENT
BEGIN:VEVENT
DTSTART;TZID=Europe/Warsaw:20260825T183000
DTEND;TZID=Europe/Warsaw:20260825T194500
DTSTAMP:20260422T133600
CREATED:20260420T163841Z
LAST-MODIFIED:20260420T163844Z
UID:10000415-1787682600-1787687100@tre-polska.pl
SUMMARY:Cykl 5 sesji TRE®
DESCRIPTION:
URL:https://tre-polska.pl/event/cykl-5-sesji-tre/2026-08-25/
CATEGORIES:SESJE GRUPOWE
ATTACH;FMTTYPE=image/png:https://tre-polska.pl/wp-content/uploads/2026/04/CYKL-5-SESJI-TRE®-5.png
END:VEVENT
BEGIN:VEVENT
DTSTART;TZID=Europe/Warsaw:20260901T183000
DTEND;TZID=Europe/Warsaw:20260901T194500
DTSTAMP:20260422T133600
CREATED:20260420T163841Z
LAST-MODIFIED:20260420T163844Z
UID:10000416-1788287400-1788291900@tre-polska.pl
SUMMARY:Cykl 5 sesji TRE®
DESCRIPTION:
URL:https://tre-polska.pl/event/cykl-5-sesji-tre/2026-09-01/
CATEGORIES:SESJE GRUPOWE
ATTACH;FMTTYPE=image/png:https://tre-polska.pl/wp-content/uploads/2026/04/CYKL-5-SESJI-TRE®-5.png
END:VEVENT
BEGIN:VEVENT
DTSTART;TZID=Europe/Warsaw:20260908T183000
DTEND;TZID=Europe/Warsaw:20260908T194500
DTSTAMP:20260422T133600
CREATED:20260420T163841Z
LAST-MODIFIED:20260420T163844Z
UID:10000417-1788892200-1788896700@tre-polska.pl
SUMMARY:Cykl 5 sesji TRE®
DESCRIPTION:
URL:https://tre-polska.pl/event/cykl-5-sesji-tre/2026-09-08/
CATEGORIES:SESJE GRUPOWE
ATTACH;FMTTYPE=image/png:https://tre-polska.pl/wp-content/uploads/2026/04/CYKL-5-SESJI-TRE®-5.png
END:VEVENT
BEGIN:VEVENT
DTSTART;TZID=Europe/Warsaw:20260915T183000
DTEND;TZID=Europe/Warsaw:20260915T194500
DTSTAMP:20260422T133600
CREATED:20260420T163841Z
LAST-MODIFIED:20260420T163844Z
UID:10000418-1789497000-1789501500@tre-polska.pl
SUMMARY:Cykl 5 sesji TRE®
DESCRIPTION:
URL:https://tre-polska.pl/event/cykl-5-sesji-tre/2026-09-15/
CATEGORIES:SESJE GRUPOWE
ATTACH;FMTTYPE=image/png:https://tre-polska.pl/wp-content/uploads/2026/04/CYKL-5-SESJI-TRE®-5.png
END:VEVENT
BEGIN:VEVENT
DTSTART;TZID=Europe/Warsaw:20260922T183000
DTEND;TZID=Europe/Warsaw:20260922T194500
DTSTAMP:20260422T133600
CREATED:20260420T163841Z
LAST-MODIFIED:20260420T163844Z
UID:10000419-1790101800-1790106300@tre-polska.pl
SUMMARY:Cykl 5 sesji TRE®
DESCRIPTION:
URL:https://tre-polska.pl/event/cykl-5-sesji-tre/2026-09-22/
CATEGORIES:SESJE GRUPOWE
ATTACH;FMTTYPE=image/png:https://tre-polska.pl/wp-content/uploads/2026/04/CYKL-5-SESJI-TRE®-5.png
END:VEVENT
BEGIN:VEVENT
DTSTART;TZID=Europe/Warsaw:20260929T183000
DTEND;TZID=Europe/Warsaw:20260929T194500
DTSTAMP:20260422T133600
CREATED:20260420T163841Z
LAST-MODIFIED:20260420T163844Z
UID:10000420-1790706600-1790711100@tre-polska.pl
SUMMARY:Cykl 5 sesji TRE®
DESCRIPTION:
URL:https://tre-polska.pl/event/cykl-5-sesji-tre/2026-09-29/
CATEGORIES:SESJE GRUPOWE
ATTACH;FMTTYPE=image/png:https://tre-polska.pl/wp-content/uploads/2026/04/CYKL-5-SESJI-TRE®-5.png
END:VEVENT
BEGIN:VEVENT
DTSTART;TZID=Europe/Warsaw:20261006T183000
DTEND;TZID=Europe/Warsaw:20261006T194500
DTSTAMP:20260422T133600
CREATED:20260420T163841Z
LAST-MODIFIED:20260420T163844Z
UID:10000421-1791311400-1791315900@tre-polska.pl
SUMMARY:Cykl 5 sesji TRE®
DESCRIPTION:
URL:https://tre-polska.pl/event/cykl-5-sesji-tre/2026-10-06/
CATEGORIES:SESJE GRUPOWE
ATTACH;FMTTYPE=image/png:https://tre-polska.pl/wp-content/uploads/2026/04/CYKL-5-SESJI-TRE®-5.png
END:VEVENT
BEGIN:VEVENT
DTSTART;TZID=Europe/Warsaw:20261013T183000
DTEND;TZID=Europe/Warsaw:20261013T194500
DTSTAMP:20260422T133600
CREATED:20260420T163841Z
LAST-MODIFIED:20260420T163844Z
UID:10000422-1791916200-1791920700@tre-polska.pl
SUMMARY:Cykl 5 sesji TRE®
DESCRIPTION:
URL:https://tre-polska.pl/event/cykl-5-sesji-tre/2026-10-13/
CATEGORIES:SESJE GRUPOWE
ATTACH;FMTTYPE=image/png:https://tre-polska.pl/wp-content/uploads/2026/04/CYKL-5-SESJI-TRE®-5.png
END:VEVENT
BEGIN:VEVENT
DTSTART;TZID=Europe/Warsaw:20261020T183000
DTEND;TZID=Europe/Warsaw:20261020T194500
DTSTAMP:20260422T133600
CREATED:20260420T163841Z
LAST-MODIFIED:20260420T163844Z
UID:10000423-1792521000-1792525500@tre-polska.pl
SUMMARY:Cykl 5 sesji TRE®
DESCRIPTION:
URL:https://tre-polska.pl/event/cykl-5-sesji-tre/2026-10-20/
CATEGORIES:SESJE GRUPOWE
ATTACH;FMTTYPE=image/png:https://tre-polska.pl/wp-content/uploads/2026/04/CYKL-5-SESJI-TRE®-5.png
END:VEVENT
BEGIN:VEVENT
DTSTART;TZID=Europe/Warsaw:20261027T183000
DTEND;TZID=Europe/Warsaw:20261027T194500
DTSTAMP:20260422T133600
CREATED:20260420T163841Z
LAST-MODIFIED:20260420T163844Z
UID:10000424-1793125800-1793130300@tre-polska.pl
SUMMARY:Cykl 5 sesji TRE®
DESCRIPTION:
URL:https://tre-polska.pl/event/cykl-5-sesji-tre/2026-10-27/
CATEGORIES:SESJE GRUPOWE
ATTACH;FMTTYPE=image/png:https://tre-polska.pl/wp-content/uploads/2026/04/CYKL-5-SESJI-TRE®-5.png
END:VEVENT
BEGIN:VEVENT
DTSTART;TZID=Europe/Warsaw:20261103T183000
DTEND;TZID=Europe/Warsaw:20261103T194500
DTSTAMP:20260422T133600
CREATED:20260420T163841Z
LAST-MODIFIED:20260420T163844Z
UID:10000425-1793730600-1793735100@tre-polska.pl
SUMMARY:Cykl 5 sesji TRE®
DESCRIPTION:
URL:https://tre-polska.pl/event/cykl-5-sesji-tre/2026-11-03/
CATEGORIES:SESJE GRUPOWE
ATTACH;FMTTYPE=image/png:https://tre-polska.pl/wp-content/uploads/2026/04/CYKL-5-SESJI-TRE®-5.png
END:VEVENT
BEGIN:VEVENT
DTSTART;TZID=Europe/Warsaw:20261110T183000
DTEND;TZID=Europe/Warsaw:20261110T194500
DTSTAMP:20260422T133600
CREATED:20260420T163841Z
LAST-MODIFIED:20260420T163844Z
UID:10000426-1794335400-1794339900@tre-polska.pl
SUMMARY:Cykl 5 sesji TRE®
DESCRIPTION:
URL:https://tre-polska.pl/event/cykl-5-sesji-tre/2026-11-10/
CATEGORIES:SESJE GRUPOWE
ATTACH;FMTTYPE=image/png:https://tre-polska.pl/wp-content/uploads/2026/04/CYKL-5-SESJI-TRE®-5.png
END:VEVENT
BEGIN:VEVENT
DTSTART;TZID=Europe/Warsaw:20261117T183000
DTEND;TZID=Europe/Warsaw:20261117T194500
DTSTAMP:20260422T133600
CREATED:20260420T163841Z
LAST-MODIFIED:20260420T163844Z
UID:10000427-1794940200-1794944700@tre-polska.pl
SUMMARY:Cykl 5 sesji TRE®
DESCRIPTION:
URL:https://tre-polska.pl/event/cykl-5-sesji-tre/2026-11-17/
CATEGORIES:SESJE GRUPOWE
ATTACH;FMTTYPE=image/png:https://tre-polska.pl/wp-content/uploads/2026/04/CYKL-5-SESJI-TRE®-5.png
END:VEVENT
BEGIN:VEVENT
DTSTART;TZID=Europe/Warsaw:20261124T183000
DTEND;TZID=Europe/Warsaw:20261124T194500
DTSTAMP:20260422T133600
CREATED:20260420T163841Z
LAST-MODIFIED:20260420T163844Z
UID:10000428-1795545000-1795549500@tre-polska.pl
SUMMARY:Cykl 5 sesji TRE®
DESCRIPTION:
URL:https://tre-polska.pl/event/cykl-5-sesji-tre/2026-11-24/
CATEGORIES:SESJE GRUPOWE
ATTACH;FMTTYPE=image/png:https://tre-polska.pl/wp-content/uploads/2026/04/CYKL-5-SESJI-TRE®-5.png
END:VEVENT
BEGIN:VEVENT
DTSTART;TZID=Europe/Warsaw:20261201T183000
DTEND;TZID=Europe/Warsaw:20261201T194500
DTSTAMP:20260422T133600
CREATED:20260420T163841Z
LAST-MODIFIED:20260420T163844Z
UID:10000429-1796149800-1796154300@tre-polska.pl
SUMMARY:Cykl 5 sesji TRE®
DESCRIPTION:
URL:https://tre-polska.pl/event/cykl-5-sesji-tre/2026-12-01/
CATEGORIES:SESJE GRUPOWE
ATTACH;FMTTYPE=image/png:https://tre-polska.pl/wp-content/uploads/2026/04/CYKL-5-SESJI-TRE®-5.png
END:VEVENT
END:VCALENDAR